BEGIN:VCALENDAR
VERSION:2.0
PRODID:-//Histoire Urbaine - ECPv4.9.8//NONSGML v1.0//EN
CALSCALE:GREGORIAN
METHOD:PUBLISH
X-WR-CALNAME:Histoire Urbaine
X-ORIGINAL-URL:http://robertphilippart.eu
X-WR-CALDESC:Évènements pour Histoire Urbaine
BEGIN:VTIMEZONE
TZID:Europe/Paris
BEGIN:DAYLIGHT
TZOFFSETFROM:+0100
TZOFFSETTO:+0200
TZNAME:CEST
DTSTART:20190331T010000
END:DAYLIGHT
BEGIN:STANDARD
TZOFFSETFROM:+0200
TZOFFSETTO:+0100
TZNAME:CET
DTSTART:20191027T010000
END:STANDARD
END:VTIMEZONE
BEGIN:VEVENT
DTSTART;TZID="Europe/Paris":20191215T143000
DTEND;TZID="Europe/Paris":20191215T160000
DTSTAMP:20211006T184214
CREATED:20190527T135123Z
LAST-MODIFIED:20190527T135343Z
UID:497-1576420200-1576425600@robertphilippart.eu
SUMMARY:Les grand magasins de la Belle Epoque
DESCRIPTION:Le Musée National d’Histoire et d’Art en collaboration avec le Musée 3 Eechelen invite à la visite-conférence en langue française\, avec Dr Robert L. Philippart sur l’émergence des grands magasins à Luxembourg.\n\nLa visite fait découvrir comment le Gouvernement transformait l’ancienne ville forteresse en centre commercial du pays. Elle explique l’organisation du commerce au XIXe siècle ainsi que son évolution jusqu’à nos jours. La visite-conférence retrace le profil des commerçants et décrit quelle place détenait l’hôtellerie dans l’économie de la ville. La promenade guidée s’interroge encore sur le caractère publicitaire de l’architecture du commerce.
URL:http://robertphilippart.eu/agenda/les-grand-magasins-de-la-belle-epoque/
LOCATION:Départ: Hôtel de Ville\, place Guillaume II Arrivée: rue Philippe II / rue de la Poste\, Place Guillaume II\, Luxembourg\, Luxembourg
ATTACH;FMTTYPE=image/jpeg:http://robertphilippart.eu/wp-content/uploads/2019/05/agenda_185-1.jpg
END:VEVENT
END:VCALENDAR