BEGIN:VCALENDAR
VERSION:2.0
PRODID:-//Histoire Urbaine - ECPv4.9.8//NONSGML v1.0//EN
CALSCALE:GREGORIAN
METHOD:PUBLISH
X-WR-CALNAME:Histoire Urbaine
X-ORIGINAL-URL:http://robertphilippart.eu
X-WR-CALDESC:Évènements pour Histoire Urbaine
BEGIN:VTIMEZONE
TZID:Europe/Paris
BEGIN:DAYLIGHT
TZOFFSETFROM:+0100
TZOFFSETTO:+0200
TZNAME:CEST
DTSTART:20200329T010000
END:DAYLIGHT
BEGIN:STANDARD
TZOFFSETFROM:+0200
TZOFFSETTO:+0100
TZNAME:CET
DTSTART:20201025T010000
END:STANDARD
END:VTIMEZONE
BEGIN:VEVENT
DTSTART;TZID="Europe/Paris":20200922T193000
DTEND;TZID="Europe/Paris":20200922T210000
DTSTAMP:20201210T204126
CREATED:20191223T132245Z
LAST-MODIFIED:20200823T112115Z
UID:1239-1600803000-1600808400@robertphilippart.eu
SUMMARY:Taillé dans la pierre et visible dans l’espace urbain : l’expression de la foi dans l’architecture de la capitale. Reporté en 2021
DESCRIPTION:Conférence publique dans le cadre de la rentrée académique de la Luxembourg School of Religion and Society. Reportée en 2021\n\nLa liberté d’expression inclut la confession de la foi dans l’espace public\, ouvert à tous les courants de la pensée de l’Homme et à la Révélation de Dieu. La conférence s’interroge sur l’importance qu’attachait la société post-révolutionnaire du XIXe siècle à l’expression de ses sensibilités spirituelles. Intervenant: Dr Robert L. Philippart\, historien.
URL:http://robertphilippart.eu/agenda/taille-dans-la-pierre-et-visible-dans-lespace-urbain-lexpression-de-la-foi-dans-larchitecture-de-la-capitale/
LOCATION:Luxembourg School of Religion and Society\, 52\, rue Jules Wilhelm\, Luxembourg\, 2728\, Luxembourg
END:VEVENT
END:VCALENDAR