BEGIN:VCALENDAR
VERSION:2.0
PRODID:-//Histoire Urbaine - ECPv4.9.8//NONSGML v1.0//EN
CALSCALE:GREGORIAN
METHOD:PUBLISH
X-WR-CALNAME:Histoire Urbaine
X-ORIGINAL-URL:http://robertphilippart.eu
X-WR-CALDESC:Évènements pour Histoire Urbaine
BEGIN:VTIMEZONE
TZID:Europe/Paris
BEGIN:DAYLIGHT
TZOFFSETFROM:+0100
TZOFFSETTO:+0200
TZNAME:CEST
DTSTART:20200329T010000
END:DAYLIGHT
BEGIN:STANDARD
TZOFFSETFROM:+0200
TZOFFSETTO:+0100
TZNAME:CET
DTSTART:20201025T010000
END:STANDARD
END:VTIMEZONE
BEGIN:VEVENT
DTSTART;TZID="Europe/Paris":20200927T143000
DTEND;TZID="Europe/Paris":20200927T160000
DTSTAMP:20201210T204141
CREATED:20191223T111511Z
LAST-MODIFIED:20191223T111511Z
UID:1209-1601217000-1601222400@robertphilippart.eu
SUMMARY:L’empreinte religieuse sur la ville
DESCRIPTION:La ville comme espace public\, de concentration des hommes au cours des siècles est aussi le lieu d’expression de leurs confessions et vues sur le monde. Le modèle défini en 1868 pour transformer la ville-forteresse en capitale nationale tenait compte de ces aspirations. La visite guidée interroge sur les références religieuses dans l’architecture\, mais aussi dans la distribution des pouvoirs laïc et spirituel dans l’espace urbain.
URL:http://robertphilippart.eu/agenda/lempreinte-religieuse-sur-la-ville/
LOCATION:Avenue de la Porte Neuve (portique Notre-Dame)\, Avenue de la Porte Neuve\, Luxembourg\, 2227\, Luxembourg
END:VEVENT
END:VCALENDAR