BEGIN:VCALENDAR
VERSION:2.0
PRODID:-//Histoire Urbaine - ECPv4.9.8//NONSGML v1.0//EN
CALSCALE:GREGORIAN
METHOD:PUBLISH
X-WR-CALNAME:Histoire Urbaine
X-ORIGINAL-URL:http://robertphilippart.eu
X-WR-CALDESC:Évènements pour Histoire Urbaine
BEGIN:VTIMEZONE
TZID:Europe/Paris
BEGIN:DAYLIGHT
TZOFFSETFROM:+0100
TZOFFSETTO:+0200
TZNAME:CEST
DTSTART:20200329T010000
END:DAYLIGHT
BEGIN:STANDARD
TZOFFSETFROM:+0200
TZOFFSETTO:+0100
TZNAME:CET
DTSTART:20201025T010000
END:STANDARD
END:VTIMEZONE
BEGIN:VEVENT
DTSTART;TZID="Europe/Paris":20201018T143000
DTEND;TZID="Europe/Paris":20201018T160000
DTSTAMP:20211006T065321
CREATED:20191223T112004Z
LAST-MODIFIED:20200516T095134Z
UID:1213-1603031400-1603036800@robertphilippart.eu
SUMMARY:Sur les traces du premier tramway - visite annulée en raison du Covid- 19
DESCRIPTION:A l’aube de l’inauguration du tronçon B du tramway vers la gare de Luxembourg\, cette visite en bus historique poursuit le parcours de la première ligne de tram à Luxembourg. Lorsqu’en 1875 la ville de Luxembourg adoptait le tramway à traction chevaline\, les autorités étaient conscientes d’offrir davantage qu’un service de mobilité aux citadins. Elles dotaient la ville d’un instrument de développement qui avait fait ses preuves à l’étranger. Le tracé retenu pour les premières lignes rejoignait l’idée du développement urbain de la ville. Le circuit en bus historique de la Gare centrale au Glacis éclaire les choix de 1875.\n\nEn raison du nombre de places limitées\, l’inscription pour cette visite est obligatoire. Tel 44 49 29.
URL:http://robertphilippart.eu/agenda/sur-les-traces-du-premier-tramway/
LOCATION:Départ/Arrivée: Place de la Gare (siège CFL)\, Place de la Gare\, Luxembourg\, 1616\, Luxembourg
END:VEVENT
END:VCALENDAR