BEGIN:VCALENDAR
VERSION:2.0
PRODID:-//Histoire Urbaine - ECPv4.9.8//NONSGML v1.0//EN
CALSCALE:GREGORIAN
METHOD:PUBLISH
X-WR-CALNAME:Histoire Urbaine
X-ORIGINAL-URL:http://robertphilippart.eu
X-WR-CALDESC:Évènements pour Histoire Urbaine
BEGIN:VTIMEZONE
TZID:Europe/Paris
BEGIN:DAYLIGHT
TZOFFSETFROM:+0100
TZOFFSETTO:+0200
TZNAME:CEST
DTSTART:20200329T010000
END:DAYLIGHT
BEGIN:STANDARD
TZOFFSETFROM:+0200
TZOFFSETTO:+0100
TZNAME:CET
DTSTART:20201025T010000
END:STANDARD
END:VTIMEZONE
BEGIN:VEVENT
DTSTART;TZID="Europe/Paris":20201115T143000
DTEND;TZID="Europe/Paris":20201115T160000
DTSTAMP:20211006T065007
CREATED:20191223T112757Z
LAST-MODIFIED:20201018T144347Z
UID:1217-1605450600-1605456000@robertphilippart.eu
SUMMARY:Les héros de guerre du cimetière Notre-Dame
DESCRIPTION:Dans le cadre de l’exposition « Les légionnaires » au Musée 3 Eechelen\, cette visite au cimetière Notre-Dame à Luxembourg traite de la commémoration des « héros » de guerre\, de luttes pour la Liberté. Les monuments commémorent des hommes d’Etat\, des légionnaires  tombés\, des soldats inconnus\, des résistants luxembourgeois dont les dépouilles mortelles ont été rapatriées ou ensevelis sur leur lieu d’exécution. La présence des dépouilles rappelle leur existence réelle dans le passé.
URL:http://robertphilippart.eu/agenda/les-heros-du-cimetiere-notre-dame/
LOCATION:Cimetière ND de Luxembourg\, Allée des Résistants et Déportés\, Allée des Rösistants et Déportés\, Luxembourg\, Luxembourg
ATTACH;FMTTYPE=image/jpeg:http://robertphilippart.eu/wp-content/uploads/2019/12/Nd-08-01-01-vi-00-014-Paul-Eyschen-©-Rolph.jpg
END:VEVENT
END:VCALENDAR