BEGIN:VCALENDAR
VERSION:2.0
PRODID:-//Histoire Urbaine - ECPv4.9.8//NONSGML v1.0//EN
CALSCALE:GREGORIAN
METHOD:PUBLISH
X-WR-CALNAME:Histoire Urbaine
X-ORIGINAL-URL:http://robertphilippart.eu
X-WR-CALDESC:Évènements pour Histoire Urbaine
BEGIN:VTIMEZONE
TZID:Europe/Paris
BEGIN:DAYLIGHT
TZOFFSETFROM:+0100
TZOFFSETTO:+0200
TZNAME:CEST
DTSTART:20210328T010000
END:DAYLIGHT
BEGIN:STANDARD
TZOFFSETFROM:+0200
TZOFFSETTO:+0100
TZNAME:CET
DTSTART:20211031T010000
END:STANDARD
END:VTIMEZONE
BEGIN:VEVENT
DTSTART;TZID="Europe/Paris":20210228T143000
DTEND;TZID="Europe/Paris":20210228T160000
DTSTAMP:20201210T203230
CREATED:20201018T132855Z
LAST-MODIFIED:20201018T133007Z
UID:1356-1614522600-1614528000@robertphilippart.eu
SUMMARY:La gestion du patrimoine UNESCO à Luxembourg
DESCRIPTION:La gestion du patrimoine UNESCO à Luxembourg\n\nLa visite explique sur le terrain les actions et mesures entreprises par l’État et la ville de Luxembourg pour préserver l’authenticité et l’intégrité du site à valeur universelle exceptionnelle: «Luxembourg\, vieux quartiers et fortifications»\, patrimoine mondial culturel de l’UNESCO. Outre la découverte du UNESCO Visitor Center au Lëtzebuerg City Museum.\n\nLa visite a pour but de rappeler les critères selon lesquels Luxembourg a été inscrit au registre du patrimoine mondial\, de sensibiliser au paysage historique urbain et de donner des clés de lecture pour identifier le périmètre de protection dans l’espace.\n\nDate : Dimanche 28 février\n\nHeure : 14h30\n\nLangue : en luxembourgeois\n\nDépart : Hôtel de ville\, Place Guillaume II\n\nArrivée : Rousepark op de Rondellen (plateau Saint-Esprit)\n\nInformations pratiques :\n\nLes visites sont gratuites. Durée : 90 minutes. Visites sonorisées (mégaphone)\n\nIntervenant: Robert L. Philippart\, historien\, UNESCO Site Manager\, Ministère de la Culture\n\n#COVID-19\n\nInscription obligatoire: E-mail : servicedespublics@mnha.etat.lu / Tél. : 47 93 30 – 214\n\n*** Places limitées en fonction des mesures sanitaires en vigueur ***\n\nLes conditions de participation exigent le respect des mesures sanitaires mises en place par le Gouvernement.\n\nPlus de renseignements : GSM : 621 21 54 24 / Tél. : 44 49 29 / E-mail : robertphilippart@msn.com\n\nwww.histoireurbaine.lu / www.m3e.lu
URL:http://robertphilippart.eu/agenda/la-gestion-du-patrimoine-unesco-a-luxembourg/
LOCATION:Départ: Place Guillaume II\, Hotel de Ville / Arrivée: Place du Saint-Esprit\, Place Guillaume II\, Luxembourg\, Luxembourg
CATEGORIES:Visites Guidées
ATTACH;FMTTYPE=image/jpeg:http://robertphilippart.eu/wp-content/uploads/2020/10/Roses-jardins.jpg
END:VEVENT
END:VCALENDAR