BEGIN:VCALENDAR
VERSION:2.0
PRODID:-//Histoire Urbaine - ECPv4.9.8//NONSGML v1.0//EN
CALSCALE:GREGORIAN
METHOD:PUBLISH
X-WR-CALNAME:Histoire Urbaine
X-ORIGINAL-URL:http://robertphilippart.eu
X-WR-CALDESC:Évènements pour Histoire Urbaine
BEGIN:VTIMEZONE
TZID:Europe/Paris
BEGIN:DAYLIGHT
TZOFFSETFROM:+0100
TZOFFSETTO:+0200
TZNAME:CEST
DTSTART:20210328T010000
END:DAYLIGHT
BEGIN:STANDARD
TZOFFSETFROM:+0200
TZOFFSETTO:+0100
TZNAME:CET
DTSTART:20211031T010000
END:STANDARD
END:VTIMEZONE
BEGIN:VEVENT
DTSTART;TZID="Europe/Paris":20210328T143000
DTEND;TZID="Europe/Paris":20210328T170000
DTSTAMP:20210721T010648
CREATED:20201018T133410Z
LAST-MODIFIED:20201018T133410Z
UID:1360-1616941800-1616950800@robertphilippart.eu
SUMMARY:Les villas du Boulevard Emmanuel Servais
DESCRIPTION:Les villas du Boulevard Emmanuel Servais\n\n«Derrière la Fondation Pescatore» est au XIXe siècle considéré comme l’emplacement idéal pour édifier un musée national\, une école d’artisans\, une cathédrale\, un lycée pour jeunes filles\, un nouvel Athénée\, un Grand Théâtre. Par conséquent\, l’urbaniste allemand Joseph Stübben propose à cet endroit la planification d’un lotissement pour accueillir des villas. Les grands architectes luxembourgeois Georges Traus et Gustav Schopen dessinent la plupart de villas\, dont les propriétaires joueront des rôles prépondérants dans l’histoire du pays.\n\nDate : Dimanche 28 mars\n\nHeure : 14h30\n\nLangue : en français\n\nDépart et arrivée : Rond-Point Schuman\, Grand Théâtre\n\nInformations pratiques :\n\nLes visites sont gratuites. Durée : 90 minutes. Visites sonorisées (mégaphone)\n\nIntervenant: Robert L. Philippart\, historien\, UNESCO Site Manager\, Ministère de la Culture\n\n#COVID-19\n\nInscription obligatoire: E-mail : servicedespublics@mnha.etat.lu / Tél. : 47 93 30 – 214\n\n*** Places limitées en fonction des mesures sanitaires en vigueur ***\n\nLes conditions de participation exigent le respect des mesures sanitaires mises en place par le Gouvernement.\n\nPlus de renseignements : GSM : 621 21 54 24 / Tél. : 44 49 29 / E-mail : robertphilippart@msn.com\n\nwww.histoireurbaine.lu / www.m3e.lu
URL:http://robertphilippart.eu/agenda/les-villas-du-boulevard-emmanuel-servais-2/
CATEGORIES:Visites Guidées
ATTACH;FMTTYPE=image/jpeg:http://robertphilippart.eu/wp-content/uploads/2020/10/Bd-Em-Servais-©-Archives-privées-Georges-Traus.jpg
END:VEVENT
END:VCALENDAR