BEGIN:VCALENDAR
VERSION:2.0
PRODID:-//Histoire Urbaine - ECPv4.9.8//NONSGML v1.0//EN
CALSCALE:GREGORIAN
METHOD:PUBLISH
X-WR-CALNAME:Histoire Urbaine
X-ORIGINAL-URL:http://robertphilippart.eu
X-WR-CALDESC:Évènements pour Histoire Urbaine
BEGIN:VTIMEZONE
TZID:Europe/Paris
BEGIN:DAYLIGHT
TZOFFSETFROM:+0100
TZOFFSETTO:+0200
TZNAME:CEST
DTSTART:20210328T010000
END:DAYLIGHT
BEGIN:STANDARD
TZOFFSETFROM:+0200
TZOFFSETTO:+0100
TZNAME:CET
DTSTART:20211031T010000
END:STANDARD
END:VTIMEZONE
BEGIN:VEVENT
DTSTART;TZID="Europe/Paris":20211128T143000
DTEND;TZID="Europe/Paris":20211128T143000
DTSTAMP:20210721T010719
CREATED:20201018T144011Z
LAST-MODIFIED:20201018T144130Z
UID:1386-1638109800-1638109800@robertphilippart.eu
SUMMARY:Le cimetière Notre-Dame –panthéon luxembourgeois
DESCRIPTION:Le cimetière Notre-Dame –panthéon luxembourgeois\n\nCette visite au cimetière Notre-Dame à Luxembourg traite de la commémoration des «héros» de guerre et des luttes pour la Liberté. Les monuments commémorent des hommes d’État\, des légionnaires tombés\, des soldats inconnus\, des résistants luxembourgeois ensevelis sur leur lieu d’exécution ou dont les dépouilles mortelles ont été rapatriées.\n\nLe cimetière municipal en plein air du XIXe siècle invente plusieurs types de monuments funéraires\, artisanaux ou industriels\, qui traduisent de diverses façons la pluralité des conceptions du monde.\n\nDate : Dimanche 28 novembre\n\nHeure : 14h30\n\nLangue : en français\n\nDépart et arrivée : Entrée principale du cimetière\n\nNotre-Dame\, Allée des Résistants et Déportés\n\nInformations pratiques :\n\nLes visites sont gratuites. Durée : 90 minutes. Visites sonorisées (mégaphone)\n\nIntervenant: Robert L. Philippart\, historien\, UNESCO Site Manager\, Ministère de la Culture\n\n#COVID-19\n\nInscription obligatoire: E-mail : servicedespublics@mnha.etat.lu / Tél. : 47 93 30 – 214\n\n*** Places limitées en fonction des mesures sanitaires en vigueur ***\n\nLes conditions de participation exigent le respect des mesures sanitaires mises en place par le Gouvernement.\n\nPlus de renseignements : GSM : 621 21 54 24 / Tél. : 44 49 29 / E-mail : robertphilippart@msn.com\n\nwww.histoireurbaine.lu / www.m3e.lu
URL:http://robertphilippart.eu/agenda/le-cimetiere-notre-dame-pantheon-luxembourgeois/
CATEGORIES:Visites Guidées
ATTACH;FMTTYPE=image/jpeg:http://robertphilippart.eu/wp-content/uploads/2020/10/Notre-Dame-soldat-inconnu©-Rolph-2020.jpg
END:VEVENT
END:VCALENDAR