BEGIN:VCALENDAR
VERSION:2.0
PRODID:-//Histoire Urbaine - ECPv4.9.8//NONSGML v1.0//EN
CALSCALE:GREGORIAN
METHOD:PUBLISH
X-WR-CALNAME:Histoire Urbaine
X-ORIGINAL-URL:http://robertphilippart.eu
X-WR-CALDESC:Évènements pour Histoire Urbaine
BEGIN:VTIMEZONE
TZID:Europe/Paris
BEGIN:STANDARD
TZOFFSETFROM:+0009
TZOFFSETTO:+0009
TZNAME:PMT
DTSTART:19000101T000000
END:STANDARD
END:VTIMEZONE
BEGIN:VEVENT
DTSTART;TZID="Europe/Paris":19000101T080000
DTEND;TZID="Europe/Paris":19000101T170000
DTSTAMP:20210721T010759
CREATED:20190527T140212Z
LAST-MODIFIED:20190630T191645Z
UID:509--2208960000--2208927600@robertphilippart.eu
SUMMARY:Antoine Hartmann - pionnier de l'historicisme?
DESCRIPTION:© Rolph\n\nLuxembourg\, mais aussi de l’ancienne villa Wolff au parc de la ville\, des châteaux de Dommeldange\, de Bofferdange et de Clervaux ainsi que de plusieurs églises et écoles primaires fit entrer le Grand-Duché dans l’ère de l’historicisme. En fut-il vraiment un pionnier? Qui en furent les maîtres d’ouvrage?\n\nUniquement sur réservation\n\nDurée : 90min
URL:http://robertphilippart.eu/agenda/antoine-hartmann-pionnier-de-lhistoricisme/
ATTACH;FMTTYPE=image/jpeg:http://robertphilippart.eu/wp-content/uploads/2019/06/Chambre-des-députés-copyright-Tom-Philippart.jpg
END:VEVENT
END:VCALENDAR