BEGIN:VCALENDAR
VERSION:2.0
PRODID:-//Histoire Urbaine - ECPv4.9.8//NONSGML v1.0//EN
CALSCALE:GREGORIAN
METHOD:PUBLISH
X-WR-CALNAME:Histoire Urbaine
X-ORIGINAL-URL:http://robertphilippart.eu
X-WR-CALDESC:Évènements pour Histoire Urbaine
BEGIN:VTIMEZONE
TZID:Europe/Paris
BEGIN:DAYLIGHT
TZOFFSETFROM:+0100
TZOFFSETTO:+0200
TZNAME:CEST
DTSTART:20210328T010000
END:DAYLIGHT
BEGIN:STANDARD
TZOFFSETFROM:+0200
TZOFFSETTO:+0100
TZNAME:CET
DTSTART:20211031T010000
END:STANDARD
END:VTIMEZONE
BEGIN:VEVENT
DTSTART;TZID="Europe/Paris":20210131T143000
DTEND;TZID="Europe/Paris":20210131T160000
DTSTAMP:20201210T204003
CREATED:20201018T131745Z
LAST-MODIFIED:20201018T131926Z
UID:1352-1612103400-1612108800@robertphilippart.eu
SUMMARY:L’empreinte religieuse sur l’architecture de la capitale
DESCRIPTION:Zone de confluence par excellence\, la ville est un espace public qui reflète les confessions et vues du monde des hommes qui l’ont traversée. Le modèle défini en 1868 pour transformer la ville-forteresse en capitale nationale tenait compte de ces «empreintes». La visite guidée interroge les références religieuses dans l’architecture\, mais aussi la répartition des pou­voirs laïc et spirituel dans l’espace urbain. La visite s’attache à la présence du catholicisme\, du protestantisme et du judaïsme dans l’espace public.\n\nDate : Dimanche 31 janvier\n\nHeure : 14h30\n\nLangue : en français\n\nDépart : Avenue de la Porte Neuve (portique Notre-Dame\, Forum Royal)\n\nArrivée : Boulevard F.D. Roosevelt\n\nInformations pratiques :\n\nLes visites sont gratuites. Durée : 90 minutes. Visites sonorisées (mégaphone)\n\nIntervenant: Robert L. Philippart\, historien\, UNESCO Site Manager\, Ministère de la Culture\n\n#COVID-19\n\nInscription obligatoire: E-mail : servicedespublics@mnha.etat.lu / Tél. : 47 93 30 – 214\n\n*** Places limitées en fonction des mesures sanitaires en vigueur ***\n\nLes conditions de participation exigent le respect des mesures sanitaires mises en place par le Gouvernement.\n\nPlus de renseignements : GSM : 621 21 54 24 / Tél. : 44 49 29 / E-mail : robertphilippart@msn.com\n\nwww.histoireurbaine.lu / www.m3e.lu
URL:http://robertphilippart.eu/agenda/lempreinte-religieuse-sur-larchitecture-de-la-capitale/
LOCATION:19\, Avenue de la Porte Neuve\, 19\, Avenue de la Porte Neuve\, Luxembourg\, L-2227\, Luxembourg
CATEGORIES:Visites Guidées
ATTACH;FMTTYPE=image/jpeg:http://robertphilippart.eu/wp-content/uploads/2020/10/Secteur-protégé-©-Rolph.jpg
END:VEVENT
END:VCALENDAR