BEGIN:VCALENDAR
VERSION:2.0
PRODID:-//Histoire Urbaine - ECPv4.9.8//NONSGML v1.0//EN
CALSCALE:GREGORIAN
METHOD:PUBLISH
X-WR-CALNAME:Histoire Urbaine
X-ORIGINAL-URL:http://robertphilippart.eu
X-WR-CALDESC:Évènements pour Histoire Urbaine
BEGIN:VTIMEZONE
TZID:Europe/Paris
BEGIN:DAYLIGHT
TZOFFSETFROM:+0100
TZOFFSETTO:+0200
TZNAME:CEST
DTSTART:20210328T010000
END:DAYLIGHT
BEGIN:STANDARD
TZOFFSETFROM:+0200
TZOFFSETTO:+0100
TZNAME:CET
DTSTART:20211031T010000
END:STANDARD
END:VTIMEZONE
BEGIN:VEVENT
DTSTART;TZID="Europe/Paris":20210530T143000
DTEND;TZID="Europe/Paris":20210530T160000
DTSTAMP:20210721T010610
CREATED:20201018T134900Z
LAST-MODIFIED:20201018T134900Z
UID:1366-1622385000-1622390400@robertphilippart.eu
SUMMARY:La controverse des monuments
DESCRIPTION:La controverse des monuments\n\nNi le choix de l’emplacement d’un monument\, ni ses matériaux de construction ne sont neutres. Le\n\nmonument qui occupe l’espace public reflète les intérêts de groupes d’individus qui sont à son origine. Quelles sont les personnalités qui ont eu droit à un nom de rue ou d’une place publique\, à un monument commémoratif au cimetière ou un monument en plein centre-ville? Que signifient ces statues pour la société d’aujourd’hui? Leurs messages sont-ils toujours d’actualité? La visite se concentrera surtout sur la «Gëlle Fra» et le Monument National de la Solidarité Luxembourgeoise.\n\nDate : Dimanche 30 mai\n\nHeure : 14h30\n\nLangue : en français\n\nDépart : Place de Bruxelles\, entrée vers les escaliers menant à la piste cyclable du pont Adolphe\n\nArrivée : Kanounenhiwwel\n\nInformations pratiques :\n\nLes visites sont gratuites. Durée : 90 minutes. Visites sonorisées (mégaphone)\n\nIntervenant: Robert L. Philippart\, historien\, UNESCO Site Manager\, Ministère de la Culture\n\n#COVID-19\n\nInscription obligatoire: E-mail : servicedespublics@mnha.etat.lu / Tél. : 47 93 30 – 214\n\n*** Places limitées en fonction des mesures sanitaires en vigueur ***\n\nLes conditions de participation exigent le respect des mesures sanitaires mises en place par le Gouvernement.\n\nPlus de renseignements : GSM : 621 21 54 24 / Tél. : 44 49 29 / E-mail : robertphilippart@msn.com\n\nwww.histoireurbaine.lu / www.m3e.lu
URL:http://robertphilippart.eu/agenda/la-controverse-des-monuments/
LOCATION:Départ: Place de la Constitution / Arrivée: Bd d’Avranches\, Place de la Constitution\, Luxembourg\, 1116\, Luxembourg
CATEGORIES:Visites Guidées
ATTACH;FMTTYPE=image/jpeg:http://robertphilippart.eu/wp-content/uploads/2020/10/Kanounenhiwwel-2.jpg
END:VEVENT
END:VCALENDAR