BEGIN:VCALENDAR
VERSION:2.0
PRODID:-//Histoire Urbaine - ECPv4.9.8//NONSGML v1.0//EN
CALSCALE:GREGORIAN
METHOD:PUBLISH
X-WR-CALNAME:Histoire Urbaine
X-ORIGINAL-URL:http://robertphilippart.eu
X-WR-CALDESC:Évènements pour Histoire Urbaine
BEGIN:VTIMEZONE
TZID:Europe/Paris
BEGIN:STANDARD
TZOFFSETFROM:+0009
TZOFFSETTO:+0009
TZNAME:PMT
DTSTART:19000101T000000
END:STANDARD
END:VTIMEZONE
BEGIN:VEVENT
DTSTART;TZID="Europe/Paris":19000101T080000
DTEND;TZID="Europe/Paris":19000101T170000
DTSTAMP:20210721T010816
CREATED:20190527T140354Z
LAST-MODIFIED:20190527T140403Z
UID:512--2208960000--2208927600@robertphilippart.eu
SUMMARY:Construire des hauts-fourneaux en Chine
DESCRIPTION:Eugène Ruppert et les ingénieurs luxembourgeois\n\nL’ingénieur Eugène Ruppert et plusieurs ingénieurs et contre-maîtres luxembourgeois débarquent à Han Yang en Chine pour y construire les hauts-fourneaux les plus modernes et importants de l’époque. Pourquoi durent-ils prendre la fuite en 1911 et retourner au Grand-Duché de Luxembourg?\n\nExtraits inédits et illustrés du récit « Reise um die Welt » (Chine\, Japon\, Russie) d’Eugène Ruppert\, extraits des archives de Ferdinand Schanen\, Léopold Paquet\, Jean-Pierre Arend\, Jean-Pierre Soisson.\n\nQue reste-t-il des fameuses collections d’art de l’ingénieur luxembourgeois?\n\nUniquement sur rendez-vous\n\nDurée: 90 minutes\n\n 
URL:http://robertphilippart.eu/agenda/construire-des-hauts-fourneaux-en-chine/
ATTACH;FMTTYPE=image/jpeg:http://robertphilippart.eu/wp-content/uploads/2019/05/docu0002.jpg
END:VEVENT
END:VCALENDAR