BEGIN:VCALENDAR
VERSION:2.0
PRODID:-//Histoire Urbaine - ECPv4.9.8//NONSGML v1.0//EN
CALSCALE:GREGORIAN
METHOD:PUBLISH
X-WR-CALNAME:Histoire Urbaine
X-ORIGINAL-URL:http://robertphilippart.eu
X-WR-CALDESC:Évènements pour Histoire Urbaine
BEGIN:VTIMEZONE
TZID:Europe/Paris
BEGIN:STANDARD
TZOFFSETFROM:+0009
TZOFFSETTO:+0009
TZNAME:PMT
DTSTART:19000101T000000
END:STANDARD
END:VTIMEZONE
BEGIN:VEVENT
DTSTART;TZID="Europe/Paris":19000101T080000
DTEND;TZID="Europe/Paris":19000101T170000
DTSTAMP:20210721T010825
CREATED:20190527T140549Z
LAST-MODIFIED:20190630T193149Z
UID:516--2208960000--2208927600@robertphilippart.eu
SUMMARY:Des friches militaires à la ville optimale
DESCRIPTION:Démolition de la porte Neuve © Photothèque de la ville de Luxembourg\nLuxembourg 1859-1920\nL’introduction du chemin de fer à Luxembourg place l’ancienne ville forteresse dans un réseau de lieux de productions et d’échanges. La stratégies militaire sera supplantée par la stratégie économique.\n\n 	En quoi la politique du démantèlement et de l’aménagement de la ville de Luxembourg diffère-t-elle d’autres villes européennes?\n 	 Quelle ville allons-nous construire en 1867?\n 	 Quel est la clientèle cible de la nouvelle ville à construire?\n 	Comment les courants philosophiques\, idéologiques\, théologiques trouvent-ils leur expression dans l’espace public urbain?\n\nUniquement sur rendez-vous\n\nDurée 90min
URL:http://robertphilippart.eu/agenda/des-friches-militaires-a-la-ville-optimale-2/
ATTACH;FMTTYPE=image/jpeg:http://robertphilippart.eu/wp-content/uploads/2019/05/12.jpg
END:VEVENT
END:VCALENDAR