BEGIN:VCALENDAR
VERSION:2.0
PRODID:-//Histoire Urbaine - ECPv4.9.8//NONSGML v1.0//EN
CALSCALE:GREGORIAN
METHOD:PUBLISH
X-WR-CALNAME:Histoire Urbaine
X-ORIGINAL-URL:http://robertphilippart.eu
X-WR-CALDESC:Évènements pour Histoire Urbaine
BEGIN:VTIMEZONE
TZID:Europe/Paris
BEGIN:DAYLIGHT
TZOFFSETFROM:+0100
TZOFFSETTO:+0200
TZNAME:CEST
DTSTART:20190331T010000
END:DAYLIGHT
BEGIN:STANDARD
TZOFFSETFROM:+0200
TZOFFSETTO:+0100
TZNAME:CET
DTSTART:20191027T010000
END:STANDARD
END:VTIMEZONE
BEGIN:VEVENT
DTSTART;TZID="Europe/Paris":20190825T143000
DTEND;TZID="Europe/Paris":20190825T180000
DTSTAMP:20201210T203636
CREATED:20190527T082554Z
LAST-MODIFIED:20190527T133806Z
UID:408-1566743400-1566756000@robertphilippart.eu
SUMMARY:Des friches militaires à la ville optimale
DESCRIPTION:Réduit Lambert au parc de la Ville (© Tom Philippart)\n\nLa visite guidée  propose de découvrir la conversion de l’ancienne ville forteresse en ville ouverte.\nD’anciens bastions sont convertis en terrasses panoramiques\, des impasses en grands boulevards\, d’anciennes casernes cèdent leur emplacement à des villas bourgeoises. Les « vilains murs » des bastions seront cachés par des jardins anglais.\nLa visite expliquera pourquoi Luxembourg fut une cité-jardin avant la lettre\, et à qui allait servir la qualité de vie proposée. \nLa prescription de « façades régulières » s’opposait à l’ornement et au décor individualiste cachant toutefois un conformisme au niveau du logement bourgeois. La visite fait aussi découvrir le rôle du monument officiel dans l’espace public ainsi que l’importance de la promenade publique.\n\n 
URL:http://robertphilippart.eu/agenda/des-friches-militaires-a-la-ville-optimale/
LOCATION:Départ: Place de la Constitution Arrivée: monument Amélie (parc)\, Place de la Constitution\, Luxembourg\, Luxembourg
ATTACH;FMTTYPE=image/jpeg:http://robertphilippart.eu/wp-content/uploads/2019/05/fort-lambert.jpg
END:VEVENT
END:VCALENDAR