BEGIN:VCALENDAR
VERSION:2.0
PRODID:-//Histoire Urbaine - ECPv4.9.8//NONSGML v1.0//EN
CALSCALE:GREGORIAN
METHOD:PUBLISH
X-WR-CALNAME:Histoire Urbaine
X-ORIGINAL-URL:http://robertphilippart.eu
X-WR-CALDESC:Évènements pour Histoire Urbaine
BEGIN:VTIMEZONE
TZID:Europe/Paris
BEGIN:STANDARD
TZOFFSETFROM:+0009
TZOFFSETTO:+0009
TZNAME:PMT
DTSTART:19000101T000000
END:STANDARD
END:VTIMEZONE
BEGIN:VEVENT
DTSTART;TZID="Europe/Paris":19000101T080000
DTEND;TZID="Europe/Paris":19000101T170000
DTSTAMP:20210721T010834
CREATED:20190527T140752Z
LAST-MODIFIED:20190630T191529Z
UID:520--2208960000--2208927600@robertphilippart.eu
SUMMARY:Histoire de l'architecture moderne de 1859 à 1958
DESCRIPTION:© Rolph\n\nLa conférence en powerpoint show fait découvrir le contexte dans lequel sont nés l’Art Nouveau\, l’Art Déco et le « modernisme » au Luxembourg. Les promoteurs des idées nouvelles sont présentés tout comme\, les idées elles-mêmes. Un accent particulier est mis sur les nouveaux matériaux de construction\, qui s’affirment rapidement comme matériaux typiquement luxembourgeois. Le choix de l’emplacement de ces immeubles à des carrefours magistraux\, à des entrées en ville\, souligne le caractère phare que les autorités ont voulu leur assurer et pour témoigner du caractère ouvert de la population pour ces modèles de construction. La présentation du Luxembourg aux Expositions Universelles se fait par le recours à un architecture moderniste\, cherchant à exprimer ainsi la volonté d’Indépendance de l’Etat. L’Exposition Universelle à Bruxelles en 1958 affiche l’image d’un Luxembourg moderne prêt à accueillir la haute Autorité de la Communauté Européenne du Charbon et de l’Acier.\n\nLangue: au choix\n\nUniquement sur rendez-vous\n\nDurée 90min
URL:http://robertphilippart.eu/agenda/histoire-de-larchitecture-moderne-de-1859-a-1958/
ATTACH;FMTTYPE=image/jpeg:http://robertphilippart.eu/wp-content/uploads/2019/06/Art-Nouveau-et-Modernisme.jpg
END:VEVENT
END:VCALENDAR