BEGIN:VCALENDAR
VERSION:2.0
PRODID:-//Histoire Urbaine - ECPv4.9.8//NONSGML v1.0//EN
CALSCALE:GREGORIAN
METHOD:PUBLISH
X-WR-CALNAME:Histoire Urbaine
X-ORIGINAL-URL:http://robertphilippart.eu
X-WR-CALDESC:Évènements pour Histoire Urbaine
BEGIN:VTIMEZONE
TZID:Europe/Paris
BEGIN:STANDARD
TZOFFSETFROM:+0009
TZOFFSETTO:+0009
TZNAME:PMT
DTSTART:19000101T000000
END:STANDARD
END:VTIMEZONE
BEGIN:VEVENT
DTSTART;TZID="Europe/Paris":19000101T080000
DTEND;TZID="Europe/Paris":19000101T170000
DTSTAMP:20201210T203708
CREATED:20190527T135818Z
LAST-MODIFIED:20190527T135819Z
UID:501--2208960000--2208927600@robertphilippart.eu
SUMMARY:Le quartier de la gare à Luxembourg\, du transbordement de la ville au lieu central
DESCRIPTION:Avenue de la Gare photo Robert Philippart\n\nCette conférence  fait découvrir la vocation d’un quartier de gare au XIXe siècle : entrée en ville pour des masses de voyageurs\, zone industrielle\, artisanale et commerciale\, quartier d’accueil pour les filles et artisans de la campagne trouvant formation\, logement et emploi par le soutien des congrégations et ordres religieux implantés à proximité de la gare. La conférence fait découvrir la réponse du XIXe siècle à la question du logement des classes moyennes et ouvrières près du bruit et de la fumée des locomotives. Elle révèle la création de nouveaux centres de production. Un quartier de gare est aussi un lieu de distraction pour la population de passage ou de résidence\, marqué par l’émergence des cinémas\, des cabarets-spectacles. Le quartier de la gare est également un lieu initiatique à la zone noble que représente le centre ville. La gare représente un contrepoids économique\, quoique de fonction différente par rapport à la ville historique. C’est un lieu d’expérimentation architecturale\, de ségrégation sociale\, de transbordement de la ville traditionnelle. La conférence en powerpoint montre grâce à l’image toute la mutation d’un quartier.\n\n \n\nUniquement sur rendez-vous\n\n90min
URL:http://robertphilippart.eu/agenda/le-quartier-de-la-gare-a-luxembourg-du-transbordement-de-la-ville-au-lieu-central/
ATTACH;FMTTYPE=image/jpeg:http://robertphilippart.eu/wp-content/uploads/2019/05/avenuegare.jpg
END:VEVENT
END:VCALENDAR